BEGIN:VCALENDAR
PRODID:PlannerXE123
VERSION:2.0
CALSCALE:GREGORIAN
METHOD:PUBLISH
BEGIN:VEVENT
DTSTART:20250501
DTEND:20250502
DTSTAMP:20260423T175719Z
UID:(www.jjes.co.kr_799991)
CREATED:20260423T175719Z
DESCRIPTION:노동절\n\n<a href="http://www.jjes.co.kr/xe/sche/799991?category=36&pGanjioption=1&document_srl=799991">원본일정</a>
LOCATION:
SEQUENCE:1
STATUS:CONFIRMED
SUMMARY:<span style="font-weight:bold;color:#EE6622">노동절</span>
TRANSP:TRANSPARENT
END:VEVENT
END:VCALENDAR
