BEGIN:VCALENDAR
PRODID:PlannerXE123
VERSION:2.0
CALSCALE:GREGORIAN
METHOD:PUBLISH
BEGIN:VEVENT
DTSTART:20241230
DTEND:20241231
DTSTAMP:20260424T174359Z
UID:(www.jjes.co.kr_767549)
CREATED:20260424T174359Z
DESCRIPTION:필리핀 공휴일입니다.\n\n<a href="http://www.jjes.co.kr/xe/sche/767549?category=33&pGanjioption=1&document_srl=767549">원본일정</a>
LOCATION:
SEQUENCE:1
STATUS:CONFIRMED
SUMMARY:<span style="font-weight:bold;color:#EE6622">공휴일: Rizal Day</span>
TRANSP:TRANSPARENT
END:VEVENT
END:VCALENDAR
