BEGIN:VCALENDAR
PRODID:PlannerXE123
VERSION:2.0
CALSCALE:GREGORIAN
METHOD:PUBLISH
BEGIN:VEVENT
DTSTART:20240826
DTEND:20240827
DTSTAMP:20260420T020446Z
UID:(www.jjes.co.kr_767530)
CREATED:20260420T020446Z
DESCRIPTION:필리핀 공휴일입니다.\n\n<a href="http://www.jjes.co.kr/xe/sche/767530?category=16&pGanjioption=1&document_srl=767530">원본일정</a>
LOCATION:
SEQUENCE:1
STATUS:CONFIRMED
SUMMARY:<span style="font-weight:bold;color:#222288">공휴일-National Heroes Day</span>
TRANSP:TRANSPARENT
END:VEVENT
END:VCALENDAR
