BEGIN:VCALENDAR
PRODID:PlannerXE123
VERSION:2.0
CALSCALE:GREGORIAN
METHOD:PUBLISH
BEGIN:VEVENT
DTSTART:20250727
DTEND:20250728
DTSTAMP:20260420T021203Z
UID:(www.jjes.co.kr_562962)
CREATED:20260420T021203Z
DESCRIPTION:이번 주는 일주일간 열심히 공부한 학생들의 스트레스를 풀어 줄 낭만하이킹과 추억의 트래킹이 예정입니다. 하이킹(Hiking) : 어려움이 따르지 않는 걷기(비교적 평판하고 길이 잘 닦여진 길을 따라 걷는 등산) 트레킹(Trekking) : 어려움이 따르는 걷기(한국에서 일반적으로 말하는 등산) 이번주 액티비티는 필리핀 생활과 문화체험을 하게 될것이며, 간단히 준비해간 도시락으로 낭만과 추억의 등산이 될 예정입니다. 영어공부를 하기위해 해외로 연수온 우리 학생들~ 영어수학공부 못지않게 필리핀 현지의 문화체험도 중요하겠지요? 물론, 학생들의 안전을 위하여 안전요원(구급처치가능)과 학원스텝이 함께 동반될 예정이니 참고하시기바랍니다.\n\n<a href="http://www.jjes.co.kr/xe/sche/562962?category=32&pGanjioption=1&document_srl=562962">원본일정</a>
LOCATION:
SEQUENCE:1
STATUS:CONFIRMED
SUMMARY:<span style="font-weight:bold;color:#222288">하이킹&amp;트레킹</span>
TRANSP:TRANSPARENT
END:VEVENT
END:VCALENDAR
