BEGIN:VCALENDAR
PRODID:PlannerXE123
VERSION:2.0
CALSCALE:GREGORIAN
METHOD:PUBLISH
BEGIN:VEVENT
DTSTART:20191130
DTEND:20191201
DTSTAMP:20260426T013202Z
UID:(www.jjes.co.kr_496504)
CREATED:20260426T013202Z
DESCRIPTION:필리핀 공휴일입니다. 자세한 사항은 공지사항에 안내되어있습니다. 참고하시기바랍니다. 감사합니다.\n\n<a href="http://www.jjes.co.kr/xe/sche/496504?category=16&pGanjioption=1&document_srl=496504">원본일정</a>
LOCATION:
SEQUENCE:1
STATUS:CONFIRMED
SUMMARY:<span style="font-weight:bold;color:#555555">국가공휴일</span>
TRANSP:TRANSPARENT
END:VEVENT
END:VCALENDAR
