BEGIN:VCALENDAR
PRODID:PlannerXE123
VERSION:2.0
CALSCALE:GREGORIAN
METHOD:PUBLISH
BEGIN:VEVENT
DTSTART:20200715
DTEND:20200716
DTSTAMP:20260423T215356Z
UID:(www.jjes.co.kr_387437)
CREATED:20260423T215356Z
DESCRIPTION:한달에 한번 학생들의 페스티벌이 있습니다. 음악, 체육, 미술, 연극 등의 예체능 프로그램입니다. 바쁜 일정에도 불구 시간을 쪼개어 준비한 우리학생들의 끼와 재치를 지켜봐주시기바랍니다.\n\n<a href="http://www.jjes.co.kr/xe/sche/387437?category=16&pGanjioption=1&document_srl=387437">원본일정</a>
LOCATION:
SEQUENCE:1
STATUS:CONFIRMED
SUMMARY:<span style="font-weight:bold;color:#555555">아트페스티벌</span>
TRANSP:TRANSPARENT
END:VEVENT
END:VCALENDAR
