BEGIN:VCALENDAR
PRODID:PlannerXE123
VERSION:2.0
CALSCALE:GREGORIAN
METHOD:PUBLISH
BEGIN:VEVENT
DTSTART:20260226
DTEND:20260227
DTSTAMP:20260419T212619Z
UID:(www.jjes.co.kr_180300)
CREATED:20260419T212619Z
DESCRIPTION:그동안 정들었던 우리 선생님, 친구들과 함께 석별의 정을 나누는 시간입니다. 힘든여정 잘 견디어온 우리 학생들에게 다시 한 번 격려의 박수를 보냅니다. 그동안 정말 우리학생들 수고많았습니다.\n\n<a href="http://www.jjes.co.kr/xe/sche/180300?category=16&pGanjioption=1&document_srl=180300">원본일정</a>
LOCATION:
SEQUENCE:1
STATUS:CONFIRMED
SUMMARY:<span style="font-weight:bold;color:#222288">졸업식</span>
TRANSP:TRANSPARENT
END:VEVENT
END:VCALENDAR
