BEGIN:VCALENDAR
PRODID:PlannerXE123
VERSION:2.0
CALSCALE:GREGORIAN
METHOD:PUBLISH
BEGIN:VEVENT
DTSTART:20190813
DTEND:20190814
DTSTAMP:20260424T010632Z
UID:(www.jjes.co.kr_180243)
CREATED:20260424T010632Z
DESCRIPTION:헐리우드 영화를 즐기는 시간입니다. 쇼핑몰극장에서 단체영화관람의 시간이 주어집니다. 영화관람 후 대형쇼핑몰에서 기념품 , 선물 , 필요생활물품을 구입할 수 있는 개인시간이 주어집니다.\n\n<a href="http://www.jjes.co.kr/xe/sche/180243?category=16&pGanjioption=1&document_srl=180243">원본일정</a>
LOCATION:
SEQUENCE:1
STATUS:CONFIRMED
SUMMARY:<span style="font-weight:bold;color:#222288">단체영화관람</span>
TRANSP:TRANSPARENT
END:VEVENT
END:VCALENDAR
