BEGIN:VCALENDAR
PRODID:PlannerXE123
VERSION:2.0
CALSCALE:GREGORIAN
METHOD:PUBLISH
BEGIN:VEVENT
DTSTART:20200216
DTEND:20200217
DTSTAMP:20260425T200053Z
UID:(www.jjes.co.kr_180233)
CREATED:20260425T200053Z
DESCRIPTION:jjes 선생님들과 함께 세부 파크몰에 위치한 새로운 액티비티 장소로 레이저 미로찾기에 도전합니다. 세부에서 처음으로 생긴 레이저미로 액티비티는 2016년 여름 처음으로 생긴 액티비티로, 정말 즐겁고 추억이 될 하루를 선사할 것 입니다.\n\n<a href="http://www.jjes.co.kr/xe/sche/180233?category=16&pGanjioption=1&document_srl=180233">원본일정</a>
LOCATION:
SEQUENCE:1
STATUS:CONFIRMED
SUMMARY:<span style="font-weight:bold;color:#2266EE">시티게임</span>
TRANSP:TRANSPARENT
END:VEVENT
END:VCALENDAR
