BEGIN:VCALENDAR
PRODID:PlannerXE123
VERSION:2.0
CALSCALE:GREGORIAN
METHOD:PUBLISH
BEGIN:VEVENT
DTSTART:20250706
DTEND:20250707
DTSTAMP:20260420T003755Z
UID:(www.jjes.co.kr_11673)
CREATED:20260420T003755Z
DESCRIPTION:자동차레이싱으로 주중 스트레스를 확 날려버려요 ^^ 카트존은 우리 학생들이 제일 좋아하는 액티비티 중 하나입니다. 카트존의 액티비티 종료 후 아이들이 최고로 쇼핑몰 견학과 쇼핑몰 외식이 있을예정입니다.\n\n<a href="http://www.jjes.co.kr/xe/sche/11673?document_srl=11673&document_srl=11673">원본일정</a>
LOCATION:
SEQUENCE:1
STATUS:CONFIRMED
SUMMARY:<span style="font-weight:bold;color:#222288">카트존 &amp; SM</span>
TRANSP:TRANSPARENT
END:VEVENT
END:VCALENDAR
